BEGIN:VCALENDAR
VERSION:2.0
PRODID:-//Musikverein Breitenau//Termine//DE
CALSCALE:GREGORIAN
METHOD:PUBLISH
BEGIN:VEVENT
UID:mvb-event-1654@www.knappenkapelle-breitenau.at
DTSTAMP:20260423T143704Z
DTSTART:20260530T080000Z
DTEND:20260530T100000Z
SUMMARY:Bergstadtfest
LOCATION:Leoben
DESCRIPTION:https://www.knappenkapelle-breitenau.at/termine/bergstadtfest-1654/
END:VEVENT
END:VCALENDAR
