BEGIN:VCALENDAR
VERSION:2.0
PRODID:-//Musikverein Breitenau//Termine//DE
CALSCALE:GREGORIAN
METHOD:PUBLISH
BEGIN:VEVENT
UID:mvb-event-1603@www.knappenkapelle-breitenau.at
DTSTAMP:20260420T024722Z
DTSTART:20260607T070000Z
DTEND:20260607T090000Z
SUMMARY:Hl. Messe und Fronleichnamsprozession
LOCATION:Breitenau, St. Erhard
DESCRIPTION:https://www.knappenkapelle-breitenau.at/termine/hl-messe-und-fronleichnamsprozession-1603/
END:VEVENT
END:VCALENDAR
