BEGIN:VCALENDAR
VERSION:2.0
PRODID:-//Musikverein Breitenau//Termine//DE
CALSCALE:GREGORIAN
METHOD:PUBLISH
BEGIN:VEVENT
UID:mvb-event-1602@www.knappenkapelle-breitenau.at
DTSTAMP:20260420T024723Z
DTSTART:20260503T064500Z
DTEND:20260503T084500Z
SUMMARY:Florianiumzug und Hl. Messe
LOCATION:Breitenau, St. Jakob
DESCRIPTION:https://www.knappenkapelle-breitenau.at/termine/florianiumzug-und-hl-messe-1602/
END:VEVENT
END:VCALENDAR
