BEGIN:VCALENDAR
VERSION:2.0
PRODID:-//Musikverein Breitenau//Termine//DE
CALSCALE:GREGORIAN
METHOD:PUBLISH
BEGIN:VEVENT
UID:mvb-event-1601@www.knappenkapelle-breitenau.at
DTSTAMP:20260420T025429Z
DTSTART:20260501T030000Z
DTEND:20260501T050000Z
SUMMARY:Maikundgebung
LOCATION:Breitenauertal
DESCRIPTION:https://www.knappenkapelle-breitenau.at/termine/maikundgebung-1601/
END:VEVENT
END:VCALENDAR
