BEGIN:VCALENDAR
VERSION:2.0
PRODID:-//Musikverein Breitenau//Termine//DE
CALSCALE:GREGORIAN
METHOD:PUBLISH
BEGIN:VEVENT
UID:mvb-event-1600@www.knappenkapelle-breitenau.at
DTSTAMP:20260420T025343Z
DTSTART:20260430T150000Z
DTEND:20260430T170000Z
SUMMARY:Platzkonzert zum Tag der Arbeit
LOCATION:Marktplatz Breitenau am Hochlantsch
DESCRIPTION:https://www.knappenkapelle-breitenau.at/termine/platzkonzert-zum-tag-der-arbeit-1600/
END:VEVENT
END:VCALENDAR
